BEGIN:VCALENDAR
VERSION:2.0
PRODID:-//Kiezling//Event//DE
CALSCALE:GREGORIAN
METHOD:PUBLISH
X-WR-CALNAME:Kiezling Event
BEGIN:VEVENT
UID:fdc6582f-47d9-487e-91ab-ba988b22a060@kiezling.com
DTSTAMP:20260423T120927Z
DTSTART:20260503T130000Z
DTEND:20260503T143000Z
SUMMARY:Kinderwerkstatt „Hau das Bild! Unterwegs in der Skulpturenwerkstatt“
DESCRIPTION:Veranstalter: Kunstmuseum Karlsruhe\n\nKinderwerkstatt „Hau das Bild! Unterwegs in der Skulpturenwerkstatt“\nmit Florentina Mader\n3. Mai 2026\, 15  bis  16.30 Uhr\nOrt:\nKunstmuseum Karlsruhe\nZur Webseite der Veranstaltung
LOCATION:Kunstmuseum Karlsruhe\, Lorenzstraße 27\, Städtische Galerie Karlsruhe\,76135 Karlsruhe
URL:https://kiezling.com/event/fdc6582f-47d9-487e-91ab-ba988b22a060
CATEGORIES:Museum
STATUS:CONFIRMED
END:VEVENT
END:VCALENDAR