BEGIN:VCALENDAR
VERSION:2.0
PRODID:-//Kiezling//Event//DE
CALSCALE:GREGORIAN
METHOD:PUBLISH
X-WR-CALNAME:Kiezling Event
BEGIN:VEVENT
UID:e6a0320d-fcd9-445d-85f5-2e11ca0cba21@kiezling.com
DTSTAMP:20260423T120435Z
DTSTART:20260502T120000Z
DTEND:20260502T124500Z
SUMMARY:Das schönste Ei der Welt (Gastspiel ab 4 Jahren)
DESCRIPTION:Veranstalter: marotte Theater\n\nDrei Hühner haben ein Problem: Wer von ihnen ist die Schönste? Pünktchen hat ein toll gemustertes Federkleid\, Latte schicke lange Beine und Feder einen prachtvollen Kamm. Der König hat gehört\, dass Schönheit von innen kommt\, und veranstaltet einen Wettbewerb: Diejenige\, die das schönste Ei legt\, die soll auch die Schönste sein. Doch was heißt überhaupt »schön«?!
LOCATION:marotte Theater\, Kaiserallee 11\,76133 Karlsruhe
URL:https://kiezling.com/event/e6a0320d-fcd9-445d-85f5-2e11ca0cba21
CATEGORIES:Theater
GEO:49.0101683;8.3846122
STATUS:CONFIRMED
END:VEVENT
END:VCALENDAR