BEGIN:VCALENDAR
VERSION:2.0
PRODID:-//Kiezling//Event//DE
CALSCALE:GREGORIAN
METHOD:PUBLISH
X-WR-CALNAME:Kiezling Event
BEGIN:VEVENT
UID:ddfba98c-a808-4be7-9cf6-2b61f496eb57@kiezling.com
DTSTAMP:20260423T120839Z
DTSTART:20260428T140000Z
DTEND:20260428T144500Z
SUMMARY:VORLESEZEIT in der Waldstadt
DESCRIPTION:Veranstalter: Stadtbibliothek Karlsruhe - Stadtteilbibliothek Waldstadt\n\nDie Stadtteilbibliothek Waldstadt lädt alle Kinder zwischen 4 und 6 Jahren zur Vorlesezeit ein.Jeden zweiten und vierten Dienstag im Monat um 16 Uhr.Zielgruppe:4 und 6 JahrenAnmeldung:ohne AnmeldungEintritt:kostenfreiOrt:Stadtteilbibliothek WaldstadtIllustration: AdobeStock - GoodStudio
LOCATION:Stadtbibliothek Karlsruhe - Stadtteilbibliothek Waldstadt\, Neisser Straße 12\,76139 Karlsruhe
URL:https://kiezling.com/event/ddfba98c-a808-4be7-9cf6-2b61f496eb57
CATEGORIES:Natur
STATUS:CONFIRMED
END:VEVENT
END:VCALENDAR