BEGIN:VCALENDAR
VERSION:2.0
PRODID:-//Kiezling//Event//DE
CALSCALE:GREGORIAN
METHOD:PUBLISH
X-WR-CALNAME:Kiezling Event
BEGIN:VEVENT
UID:db53133a-3b7f-4131-9096-e2bb449c708f@kiezling.com
DTSTAMP:20260423T120441Z
DTSTART:20260503T090000Z
DTEND:20260503T094000Z
SUMMARY:Jumbo und Winz (ab 3)
DESCRIPTION:Veranstalter: marotte Theater\n\nJumbo und Winz sind beste Freunde.\nDoch jeder der beiden wäre gern ein bisschen wie der andere.\nAls sie in das geheimnisvolle Land hinter der Mauer reisen\, geht ihr Wunsch in Erfüllung. Mit ungeahnten Folgen…\n\nEine zärtliche Geschichte über Freundschaft und Akzeptanz – auch sich selbst gegenüber.\n\nSpiel: Friederike Krahl\nRegie: Eva Kaufmann\, Berlin
LOCATION:marotte Theater\, Kaiserallee 11\,76133 Karlsruhe
URL:https://kiezling.com/event/db53133a-3b7f-4131-9096-e2bb449c708f
CATEGORIES:Theater
STATUS:CONFIRMED
END:VEVENT
END:VCALENDAR