BEGIN:VCALENDAR
VERSION:2.0
PRODID:-//Kiezling//Event//DE
CALSCALE:GREGORIAN
METHOD:PUBLISH
X-WR-CALNAME:Kiezling Event
BEGIN:VEVENT
UID:d546f00b-2ee6-4b65-b394-ca65416a4069@kiezling.com
DTSTAMP:20260423T120743Z
DTSTART:20260501T113000Z
DTEND:20260502T102000Z
SUMMARY:Stups\, die kleine Sternschnuppe
DESCRIPTION:Veranstalter: PLANET KA Planetarium Karlsruhe gGmbH\n\nKinder- & Familienprogramm:STUPS\, DIE KLEINE STERNSCHNUPPEfür Kinder ab 4 Jahren und die ganze FamilieStups ist eine kleine Sternschnuppe\, die ihre Heimat\, den Kometen Rasefix\, verloren hat\, als dieser einmal viel zu eng um die Sonne kreiste.Seitdem sucht sie eine neue Heimat\, aber sie weiß nicht\, wo sie anfangen soll.Die Sonne ist zu heiß\, der Mond schickt Stups weg\, da ihre großen Geschwister schon so viele Löcher in ihn geschlagen haben. Au
LOCATION:PLANET KA Planetarium Karlsruhe\, Alter Schlachthof 4\,76131 Karlsruhe
URL:https://kiezling.com/event/d546f00b-2ee6-4b65-b394-ca65416a4069
CATEGORIES:Theater
STATUS:CONFIRMED
END:VEVENT
END:VCALENDAR