BEGIN:VCALENDAR
VERSION:2.0
PRODID:-//Kiezling//Event//DE
CALSCALE:GREGORIAN
METHOD:PUBLISH
X-WR-CALNAME:Kiezling Event
BEGIN:VEVENT
UID:d1ef47dd-75c5-404f-a7ce-39fe7e465c59@kiezling.com
DTSTAMP:20260423T120602Z
DTSTART:20260503T120000Z
DTEND:20260503T124000Z
SUMMARY:Jumbo und Winz (ab 3) - letztmalig!
DESCRIPTION:Veranstalter: marotte Theater\n\nJumbo und Winz sind beste Freunde.\nDoch jeder der beiden wäre gern ein bisschen wie der andere.\nAls sie in das geheimnisvolle Land hinter der Mauer reisen\, geht ihr Wunsch in Erfüllung. Mit ungeahnten Folgen…\n\nEine zärtliche Geschichte über Freundschaft und Akzeptanz – auch sich selbst gegenüber.\n\nSpiel: Friederike Krahl\nRegie: Eva Kaufmann\, Berlin
LOCATION:marotte Theater\, Kaiserallee 11\,76133 Karlsruhe
URL:https://kiezling.com/event/d1ef47dd-75c5-404f-a7ce-39fe7e465c59
CATEGORIES:Theater
GEO:49.0101683;8.3846122
STATUS:CONFIRMED
END:VEVENT
END:VCALENDAR