BEGIN:VCALENDAR
VERSION:2.0
PRODID:-//Kiezling//Event//DE
CALSCALE:GREGORIAN
METHOD:PUBLISH
X-WR-CALNAME:Kiezling Event
BEGIN:VEVENT
UID:cf818b75-1b54-4992-b496-385252acc9d4@kiezling.com
DTSTAMP:20260423T121158Z
DTSTART:20260430T140000Z
DTEND:20260430T150000Z
SUMMARY:VORLESEZEIT mit Basteln in der Kinder- & Jugendbibliothek
DESCRIPTION:Veranstalter: Stadtbibliothek Karlsruhe - Kinder- und Jugendbibliothek im Prinz-Max-Palais\n\nWir lauschen einer wunderschönen Geschichte und basteln anschließend etwas Passendes zum Thema der Geschichte\, um unserer Kreativität freien Lauf zu lassen.HEUTE: Der Besuch. Die schüchterne Elise hat vor allen Dingen Angst und traut sich kaum noch aus dem Haus. Doch eines Tages steht plötzlich jemand vor ihrer Tür. Besuch? Na\, nu.Zielgruppe:ab 5 JahrenAnmeldung:unter Tel. 0721 / 133-4262Eintritt:kostenfr
LOCATION:Stadtbibliothek Karlsruhe - Kinder- und Jugendbibliothek Karlsruhe im Prinz-Max-Palais\, Prinz-Max-Palais\, Karlstraße 10\,76133 Karlsruhe
URL:https://kiezling.com/event/cf818b75-1b54-4992-b496-385252acc9d4
STATUS:CONFIRMED
END:VEVENT
END:VCALENDAR