BEGIN:VCALENDAR
VERSION:2.0
PRODID:-//Kiezling//Event//DE
CALSCALE:GREGORIAN
METHOD:PUBLISH
X-WR-CALNAME:Kiezling Event
BEGIN:VEVENT
UID:cee7125a-9ee9-4c19-a994-ce02ad13d085@kiezling.com
DTSTAMP:20260423T120236Z
DTSTART:20260501T170000Z
DTEND:20260502T160000Z
SUMMARY:Zeitreise - Vom Urknall zum Menschen
DESCRIPTION:Veranstalter: PLANET KA Planetarium Karlsruhe gGmbH\n\nWie war das mit dem Urknall? Woher kommen die Sterne und Planeten? Was hat sich auf der Erde abgespielt?Auf einer Zeitreise vom Beginn des Universums bis heute werden Sie Zeuge von der Geburt der ersten Sterne und der Entstehung der Milchstraße. Sie erleben gewaltige Sternexplosionen\, katastrophale Kometeneinschläge auf der Ur-Erde und die Entwicklung des Lebens.Um die dabei auftretenden unvorstellbar großen Zeiträume besser zu begreifen\, denk
LOCATION:PLANET KA Planetarium Karlsruhe\, Alter Schlachthof 4\,76131 Karlsruhe
URL:https://kiezling.com/event/cee7125a-9ee9-4c19-a994-ce02ad13d085
CATEGORIES:Museum
STATUS:CONFIRMED
END:VEVENT
END:VCALENDAR