BEGIN:VCALENDAR
VERSION:2.0
PRODID:-//Kiezling//Event//DE
CALSCALE:GREGORIAN
METHOD:PUBLISH
X-WR-CALNAME:Kiezling Event
BEGIN:VEVENT
UID:c2bdd927-28e4-4b33-b203-2dbb5d86274b@kiezling.com
DTSTAMP:20260423T120620Z
DTSTART:20260501T130000Z
DTEND:20260502T120000Z
SUMMARY:Dinosaurier - die Geschichte des Überlebens
DESCRIPTION:Veranstalter: PLANET KA Planetarium Karlsruhe gGmbH\n\nWie fast alle Kinder ist Celeste von Dinosauriern fasziniert. Gerade bereitet sie für ihre Klasse einen Vortrag darüber vor\, wie die Dinosaurier ausgestorben sind. Da stellt „Mond“\, eine weise und magische Figur\, eine verlockende Frage: „Was wäre\, wenn ich dir sagen würde\, dass es noch Dinosaurier unter uns gibt?“Celeste begibt sich mit „Mond“ auf eine Reise durch die Zeit. Dabei erleben sie ein aufregendes Abenteuer\, bei dem sie die Erde sehe
LOCATION:PLANET KA Planetarium Karlsruhe\, Alter Schlachthof 4\,76131 Karlsruhe
URL:https://kiezling.com/event/c2bdd927-28e4-4b33-b203-2dbb5d86274b
CATEGORIES:Museum
STATUS:CONFIRMED
END:VEVENT
END:VCALENDAR