BEGIN:VCALENDAR
VERSION:2.0
PRODID:-//Kiezling//Event//DE
CALSCALE:GREGORIAN
METHOD:PUBLISH
X-WR-CALNAME:Kiezling Event
BEGIN:VEVENT
UID:be70a64f-b7f6-4152-82bd-253c3f10af51@kiezling.com
DTSTAMP:20260423T120850Z
DTSTART:20260430T130000Z
DTEND:20260430T160000Z
SUMMARY:Wir gestalten eine Kunstwand - Schicht für Schicht = Schwarzwald
DESCRIPTION:Veranstalter: Regierungspräsidium Karlsruhe\n\nTauche mit uns ein in die faszinierende Welt des Schwarzwalds! Gemeinsam legen wir Schicht für Schicht eine große Kunstwand an – mit bunten Collagen\, fantasievollen Bildern und kreativen Bastelideen. Jede Schicht erzählt eine neue Geschichte: von dunklen Tannenwäldern über geheimnisvolle Pfade bis hin zu leuchtenden Farben und Formen. Ob Tannen\, Bollen oder Törtchen... mach mit und lass deiner Kreativität freien Lauf – zusammen erschaffen wir ein einz
LOCATION:Regierungspräsidium Karlsruhe am Rondellplatz\, Karl-Friedrich-Straße 17\,76133 Karlsruhe
URL:https://kiezling.com/event/be70a64f-b7f6-4152-82bd-253c3f10af51
CATEGORIES:Natur
GEO:49.00734;8.4039066
STATUS:CONFIRMED
END:VEVENT
END:VCALENDAR