BEGIN:VCALENDAR
VERSION:2.0
PRODID:-//Kiezling//Event//DE
CALSCALE:GREGORIAN
METHOD:PUBLISH
X-WR-CALNAME:Kiezling Event
BEGIN:VEVENT
UID:9c8da9e4-4891-4cc7-9e2e-da86a1d35d89@kiezling.com
DTSTAMP:20260423T120410Z
DTSTART:20260430T150000Z
DTEND:20260501T140000Z
SUMMARY:Klangreise durchs Sonnensystem
DESCRIPTION:Veranstalter: PLANET KA Planetarium Karlsruhe gGmbH\n\nErleben Sie das Sonnensystem wie nie zuvor – mit einem Raumschiff\, das Licht in Töne verwandelt.Hier werden jüngere (aber auch schon weitgereiste) Gäste Augen und Ohren machen!Zunächst machen wir uns mit unserem speziellen Sonifikator-Instrument\, einer Vertonungsmaschine\, in unserem Raumschiff vertraut. Danach geht es los nach Südamerika zum Very Large Telescope (VLT) der Europäischen Südsternwarte\, um den Anblick - und den Klang - der Sterne 
LOCATION:PLANET KA Planetarium Karlsruhe\, Alter Schlachthof 4\,76131 Karlsruhe
URL:https://kiezling.com/event/9c8da9e4-4891-4cc7-9e2e-da86a1d35d89
CATEGORIES:Museum
STATUS:CONFIRMED
END:VEVENT
END:VCALENDAR