BEGIN:VCALENDAR
VERSION:2.0
PRODID:-//Kiezling//Event//DE
CALSCALE:GREGORIAN
METHOD:PUBLISH
X-WR-CALNAME:Kiezling Event
BEGIN:VEVENT
UID:8bcb6928-3e69-4555-b686-d85d7ad30791@kiezling.com
DTSTAMP:20260423T121015Z
DTSTART:20260428T140000Z
DTEND:20260428T150000Z
SUMMARY:VORLESEZEIT in Mühlburg
DESCRIPTION:Veranstalter: Stadtbibliothek Karlsruhe - Stadtteilbibliothek Mühlburg\n\nDie Lesestunde in derStadtteilbibliothek Mühlburgfindet alle zwei Wochen dienstagsfür alle interessierten Kinderstatt.Die Veranstaltung dauert eine Stunde und ist kostenlos. Eine Anmeldung ist nicht erforderlich.Zielgruppe:alle interessierten KinderAnmeldung:ohne AnmeldungEintritt:kostenfreiOrt:Stadtteilbibliothek MühlburgIllustration: AdobeStock - GoodStudio
LOCATION:Stadtbibliothek Karlsruhe - Stadtteilbibliothek Mühlburg\, Weinbrennerstraße 79\,76185 Karlsruhe
URL:https://kiezling.com/event/8bcb6928-3e69-4555-b686-d85d7ad30791
STATUS:CONFIRMED
END:VEVENT
END:VCALENDAR