BEGIN:VCALENDAR
VERSION:2.0
PRODID:-//Kiezling//Event//DE
CALSCALE:GREGORIAN
METHOD:PUBLISH
X-WR-CALNAME:Kiezling Event
BEGIN:VEVENT
UID:79a62503-1a50-4afc-bc2e-f18014f92fd2@kiezling.com
DTSTAMP:20260423T121100Z
DTSTART:20260502T190000Z
DTEND:20260503T175500Z
SUMMARY:Kosmos extrem
DESCRIPTION:Veranstalter: PLANET KA Planetarium Karlsruhe gGmbH\n\nKilonovae\, Supernovae\, verschmelzende schwarze Löcher - es sind extreme Ereignisse im Universum\, die extreme Energien produzieren. Diese Röntgen- und Gamma-Strahlungen sind jedoch ebenso wenig mit herkömmlichen optischen Teleskopen zu beobachten wie Neutrinos und Gravitationswellen.Es sind neuartige Techniken und (Weltraum-)Teleskope\, die diese gewaltigen Ereignisse für uns "sichtbar" werden lassen.Jahrtausendelang kannten wir den Himmel nur ü
LOCATION:PLANET KA Planetarium Karlsruhe\, Alter Schlachthof 4\,76131 Karlsruhe
URL:https://kiezling.com/event/79a62503-1a50-4afc-bc2e-f18014f92fd2
CATEGORIES:Museum
STATUS:CONFIRMED
END:VEVENT
END:VCALENDAR