BEGIN:VCALENDAR
VERSION:2.0
PRODID:-//Kiezling//Event//DE
CALSCALE:GREGORIAN
METHOD:PUBLISH
X-WR-CALNAME:Kiezling Event
BEGIN:VEVENT
UID:78e9b1c0-409c-4ba2-8a98-e18d38578484@kiezling.com
DTSTAMP:20260423T120338Z
DTSTART:20260503T150000Z
DTEND:20260503T170000Z
SUMMARY:Der satanarchäolügenialkohöllische Wunschpunsch (Inklusive Audiodeskription)
DESCRIPTION:Veranstalter: Badisches Staatstheater Karlsruhe\n\nDer satanarchäolügenialkohöllische Wunschpunsch (Inklusive Audiodeskription)\nvon Michael Ende\n3. Mai 2026\, 17 Uhr\nOrt:\nBadisches Staatstheater\, INSEL\nKartenverkauf:\nTages- & Abokasse im K. (K-Punkt)\nEttlinger-Tor-Platz 1\n76137 Karlsruhe\nT 0721 9333 33\nE-Mail\ntickets@staatstheater.karlsruhe.de\nÖffnungszeiten\nMontag bis Freitag 10:00–18:30 Uhr\nSamstag 10:00–13:00 Uhr\n(außer an Feiertagen)\nZur Webseite der Veranstaltung
LOCATION:Badisches Staatstheater\, INSEL\, Karlstrasse 49 b\,76133 Karlsruhe
URL:https://kiezling.com/event/78e9b1c0-409c-4ba2-8a98-e18d38578484
CATEGORIES:Theater
STATUS:CONFIRMED
END:VEVENT
END:VCALENDAR