BEGIN:VCALENDAR
VERSION:2.0
PRODID:-//Kiezling//Event//DE
CALSCALE:GREGORIAN
METHOD:PUBLISH
X-WR-CALNAME:Kiezling Event
BEGIN:VEVENT
UID:6606718d-e1c6-4074-862d-a569d3d7f73c@kiezling.com
DTSTAMP:20260423T120339Z
DTSTART:20260503T060000Z
DTEND:20260503T083000Z
SUMMARY:Vogelstimmenspaziergang im Hardtwald mit anschließendem Frühstück im Waldzentrum
DESCRIPTION:Veranstalter: Waldpädagogik (Karlsruhe)\n\nEndlich ein Vogelspaziergang\, der nicht zu nachtschlafender Zeit beginnt! Wir erkunden die Vogelwelt rund um das Waldzentrum in der Linkenheimer Allee und lernen die Gesänge der Tiere kennen.  Auch erfahren wir\, warum die Vögel singen und welche Besonderheiten die einzelnen Arten auszeichnen. Zum Abschluss können Sie bei einem gemütlichen Frühstück dem Ornithologen noch  viele Fragen stellen.Proviant bitte mitbringen - wir sorgen für Kaffee und Tee.Wer ei
LOCATION:Waldzentrum Karlsruhe\, Linkenheimer Allee 10\,76131 Karlsruhe
URL:https://kiezling.com/event/6606718d-e1c6-4074-862d-a569d3d7f73c
CATEGORIES:Natur
STATUS:CONFIRMED
END:VEVENT
END:VCALENDAR