BEGIN:VCALENDAR
VERSION:2.0
PRODID:-//Kiezling//Event//DE
CALSCALE:GREGORIAN
METHOD:PUBLISH
X-WR-CALNAME:Kiezling Event
BEGIN:VEVENT
UID:5547f151-ed01-4502-a805-c1ca3e9a1dab@kiezling.com
DTSTAMP:20260423T120625Z
DTSTART:20260501T190000Z
DTEND:20260502T180000Z
SUMMARY:Von der Erde zum Universum
DESCRIPTION:Veranstalter: PLANET KA Planetarium Karlsruhe gGmbH\n\nEine bildgewaltige Reise durch Raum und Zeit für die ganze FamilieDer Nachthimmel\, wunderschön und mysteriös zugleich\, stand schon zu Anbeginn der Menschheit im Mittelpunkt von Lagerfeuergeschichten und alten Mythen. Der Wunsch\, das Universum zu verstehen\, ist vielleicht das älteste gemeinsame intellektuelle Bestreben der Menschen. Doch erst vor Kurzem haben wir begonnen unseren Platz im Kosmos zu verstehen. In Von der Erde zum Universum laden
LOCATION:PLANET KA Planetarium Karlsruhe\, Alter Schlachthof 4\,76131 Karlsruhe
URL:https://kiezling.com/event/5547f151-ed01-4502-a805-c1ca3e9a1dab
CATEGORIES:Museum
STATUS:CONFIRMED
END:VEVENT
END:VCALENDAR