BEGIN:VCALENDAR
VERSION:2.0
PRODID:-//Kiezling//Event//DE
CALSCALE:GREGORIAN
METHOD:PUBLISH
X-WR-CALNAME:Kiezling Event
BEGIN:VEVENT
UID:3d318b9b-62e7-49d4-9045-409e7342bc8f@kiezling.com
DTSTAMP:20260423T120625Z
DTSTART:20260501T080000Z
DTEND:20260501T160000Z
SUMMARY:Wölfle-Freibad startet in die Saison
DESCRIPTION:Veranstalter: Förderverein Freibad Wolfartsweier\n\nAm 1. Mai startet die Freibadsaison im Wölfle-Freibad. Die ersten Schwimmer springen von den Startblöcken. Das ist Kult. Da muss man dabei sein.
LOCATION:Freibad Wolfartsweier\, Schloßbergstraße 12\,76228 Karlsruhe
URL:https://kiezling.com/event/3d318b9b-62e7-49d4-9045-409e7342bc8f
CATEGORIES:Schwimmen
STATUS:CONFIRMED
END:VEVENT
END:VCALENDAR