BEGIN:VCALENDAR
VERSION:2.0
PRODID:-//Kiezling//Event//DE
CALSCALE:GREGORIAN
METHOD:PUBLISH
X-WR-CALNAME:Kiezling Event
BEGIN:VEVENT
UID:2e7f67c6-1f37-4c57-9fef-124c59d7dc86@kiezling.com
DTSTAMP:20260423T120620Z
DTSTART:20260430T130000Z
DTEND:20260430T150000Z
SUMMARY:NEU: 3-2-1 Liftoff!
DESCRIPTION:Veranstalter: PLANET KA Planetarium Karlsruhe gGmbH\n\nKinder- & Familienprogramm:3-2-1 Liftoff! Ein Hamster hebt ab.Ein Raketen-Spaß für Kinder ab 7 Jahren und die ganze FamilieDie meisten Planetariumsprogramme handeln vom Universum.Diese bezaubernde Geschichte handelt davon\, wie schwierig es ist\, dorthin zu gelangen.Hamster Elon lebt als einsamer Tüftler und Forscher auf einem Schrottplatz.Eines Tages kracht ein Roboter in seinen Garten\, buchstäblich aus dem Himmel gefallen\, und ist ziemlich ver
LOCATION:PLANET KA Planetarium Karlsruhe\, Alter Schlachthof 4\,76131 Karlsruhe
URL:https://kiezling.com/event/2e7f67c6-1f37-4c57-9fef-124c59d7dc86
CATEGORIES:Natur
STATUS:CONFIRMED
END:VEVENT
END:VCALENDAR