BEGIN:VCALENDAR
VERSION:2.0
PRODID:-//Kiezling//Event//DE
CALSCALE:GREGORIAN
METHOD:PUBLISH
X-WR-CALNAME:Kiezling Event
BEGIN:VEVENT
UID:2bce6dda-a487-4c3c-9af7-5e2c19c5c31f@kiezling.com
DTSTAMP:20260423T120236Z
DTSTART:20260521T073000Z
DTEND:20260521T083000Z
SUMMARY:Eltern tanzen mit Kindern
DESCRIPTION:Veranstalter: Familienzentrum Karlsruhe Nord-Ost\n\nEltern tanzen mit Kindern\nGemeinsam lachen\, tanzen und bewegen\n23. April  bis  21. Mai 2026\, 9.30  bis  10.30 Uhr\nOrt:\nGemeindezentrum St. Hedwig\nZur Webseite der Veranstaltung
LOCATION:Gemeindezentrum St. Hedwig\, Königsberger Straße 55\,76139 Karlsruhe
URL:https://kiezling.com/event/2bce6dda-a487-4c3c-9af7-5e2c19c5c31f
CATEGORIES:Sport
STATUS:CONFIRMED
END:VEVENT
END:VCALENDAR