BEGIN:VCALENDAR
VERSION:2.0
PRODID:-//Kiezling//Event//DE
CALSCALE:GREGORIAN
METHOD:PUBLISH
X-WR-CALNAME:Kiezling Event
BEGIN:VEVENT
UID:259a8bf1-6bd6-4310-b60a-0245f191c210@kiezling.com
DTSTAMP:20260423T120758Z
DTSTART:20260502T113000Z
DTEND:20260503T103000Z
SUMMARY:Der Regenbogenfisch
DESCRIPTION:Veranstalter: PLANET KA Planetarium Karlsruhe gGmbH\n\nIm Kinder- & Familienprogramm:Der Regenbogenfisch und seine FreundeDer Regenbogenfisch ist der schönste Fisch im weiten Ozean. Sein Schuppenkleid schimmert in allen Farben des Regenbogens: Rot\, Orange\, Gelb\, Grün\, Blau\, Indigo und Violett. Eines Tages verliert er seine Glitzerschuppe. Um sie wiederzufinden\, taucht ab in das tiefe Meer. Dort findet er neue Freunde\, die ihm helfen\, seine Glitzerschuppe wiederzubekommen.Wir laden Euch ein\, gemein
LOCATION:PLANET KA Planetarium Karlsruhe\, Alter Schlachthof 4\,76131 Karlsruhe
URL:https://kiezling.com/event/259a8bf1-6bd6-4310-b60a-0245f191c210
CATEGORIES:Theater
STATUS:CONFIRMED
END:VEVENT
END:VCALENDAR