BEGIN:VCALENDAR
VERSION:2.0
PRODID:-//Kiezling//Event//DE
CALSCALE:GREGORIAN
METHOD:PUBLISH
X-WR-CALNAME:Kiezling Event
BEGIN:VEVENT
UID:1dac5c81-ea68-42fa-99ad-e06d9c5dda77@kiezling.com
DTSTAMP:20260423T120247Z
DTSTART:20260429T140000Z
DTEND:20260429T141500Z
SUMMARY:VORLESEZEIT in der Kinder- & Jugendbibliothek
DESCRIPTION:Veranstalter: Stadtbibliothek Karlsruhe - Kinder- und Jugendbibliothek im Prinz-Max-Palais\n\n"Lies mir doch was vor!"  - Diesen Wunsch vieler Kinder wollen wir gerne erfüllen und bieten für Kinder von 3 bis 5 Jahren an jedem Mittwochnachmit­tag jeweils um 16 Uhr eine Vorleserunde an.Zielgruppe:von 3 bis 5 JahrenAnmeldung:ohne AnmeldungEintritt:kostenfreiOrt:Kinder- und JugendbibliothekIllustration: AdobeStock - GoodStudio
LOCATION:Stadtbibliothek Karlsruhe - Kinder- und Jugendbibliothek Karlsruhe im Prinz-Max-Palais\, Prinz-Max-Palais\, Karlstraße 10\,76133 Karlsruhe
URL:https://kiezling.com/event/1dac5c81-ea68-42fa-99ad-e06d9c5dda77
STATUS:CONFIRMED
END:VEVENT
END:VCALENDAR