BEGIN:VCALENDAR
VERSION:2.0
PRODID:-//Kiezling//Event//DE
CALSCALE:GREGORIAN
METHOD:PUBLISH
X-WR-CALNAME:Kiezling Event
BEGIN:VEVENT
UID:12b06d9f-b184-4bc7-bb56-ce99a546e6a2@kiezling.com
DTSTAMP:20260423T120410Z
DTSTART:20260503T093000Z
DTEND:20260504T083000Z
SUMMARY:Lars - der kleine Eisbär
DESCRIPTION:Veranstalter: PLANET KA Planetarium Karlsruhe gGmbH\n\nLars - der kleine EisbärIn dem spannenden Abenteuer „Kleiner Eisbär in der Walbucht“ von Hans de Beer rettet der kleine Eisbär Lars die Wale vor den Walfängern und aus einer großen Not\, in die sie durch das Abschmelzen eines Gletschers geraten sind.Anschließend erfahrt ihr\, wie die Eisbären wirklich leben und was ihre Heimat bedroht.Dauer: ca. 1 Stunde. Empfohlen für Kinder von 4 bis 7 Jahren.Einlass: ab ca. 30 Min. vor Beginn.Bitte beachten: 
LOCATION:PLANET KA Planetarium Karlsruhe\, Alter Schlachthof 4\,76131 Karlsruhe
URL:https://kiezling.com/event/12b06d9f-b184-4bc7-bb56-ce99a546e6a2
STATUS:CONFIRMED
END:VEVENT
END:VCALENDAR