BEGIN:VCALENDAR
VERSION:2.0
PRODID:-//Kiezling//Event//DE
CALSCALE:GREGORIAN
METHOD:PUBLISH
X-WR-CALNAME:Kiezling Event
BEGIN:VEVENT
UID:0720abf3-595b-4501-96c3-bd53334d535e@kiezling.com
DTSTAMP:20260423T121034Z
DTSTART:20260504T093000Z
DTEND:20260504T113000Z
SUMMARY:Der satanarchäolügenialkohöllische Wunschpunsch
DESCRIPTION:Veranstalter: Badisches Staatstheater Karlsruhe\n\nDer satanarchäolügenialkohöllische Wunschpunsch\nvon Michael Ende\n4. Mai 2026\, 11.30 Uhr\nOrt:\nBadisches Staatstheater\, INSEL\nKartenverkauf:\nTages- & Abokasse im K. (K-Punkt)\nEttlinger-Tor-Platz 1\n76137 Karlsruhe\nT 0721 9333 33\nE-Mail\ntickets@staatstheater.karlsruhe.de\nÖffnungszeiten\nMontag bis Freitag 10:00–18:30 Uhr\nSamstag 10:00–13:00 Uhr\n(außer an Feiertagen)\nZur Webseite der Veranstaltung
LOCATION:Badisches Staatstheater\, INSEL\, Karlstrasse 49 b\,76133 Karlsruhe
URL:https://kiezling.com/event/0720abf3-595b-4501-96c3-bd53334d535e
CATEGORIES:Theater
STATUS:CONFIRMED
END:VEVENT
END:VCALENDAR